BEGIN:VCALENDAR
VERSION:2.0
PRODID:-//www.biberist.ch//NONSGML kigkonsult.se iCalcreator 2.22//
CALSCALE:GREGORIAN
METHOD:PUBLISH
X-WR-TIMEZONE:Europe/Berlin
BEGIN:VEVENT
UID:20260420T092330CEST-32020dh6X6@www.biberist.ch
DTSTAMP:20260420T072330Z
DESCRIPTION:Klicken Sie auf den folgenden Link\, um weitere Informationen z
 ur Veranstaltung zu erhalten:\nhttp://www.biberist.ch/de/veranstaltungen/d
 etail/detail.php?i=526
DTSTART:20260919T200000
DTEND:20260919T223000
LOCATION:Biberist
SUMMARY:Loredana & Kilian: Warum ist sie/er so? 
END:VEVENT
END:VCALENDAR
