BEGIN:VCALENDAR
VERSION:2.0
PRODID:-//www.biberist.ch//NONSGML kigkonsult.se iCalcreator 2.22//
CALSCALE:GREGORIAN
METHOD:PUBLISH
X-WR-TIMEZONE:Europe/Berlin
BEGIN:VEVENT
UID:20260420T092402CEST-1933Z8XOhj@www.biberist.ch
DTSTAMP:20260420T072402Z
DESCRIPTION:Klicken Sie auf den folgenden Link\, um weitere Informationen z
 ur Veranstaltung zu erhalten:\nhttp://www.biberist.ch/de/veranstaltungen/d
 etail/detail.php?i=645
DTSTART:20261024T190000
DTEND:20261025T020000
LOCATION:Biberist
SUMMARY:PHIL IT ! - Die Phil Collins / Genesis Tribute Show
END:VEVENT
END:VCALENDAR
