BEGIN:VCALENDAR
VERSION:2.0
PRODID:-//www.biberist.ch//NONSGML kigkonsult.se iCalcreator 2.22//
CALSCALE:GREGORIAN
METHOD:PUBLISH
X-WR-TIMEZONE:Europe/Berlin
BEGIN:VEVENT
UID:20260420T091817CEST-8437dE8uha@www.biberist.ch
DTSTAMP:20260420T071817Z
DESCRIPTION:Klicken Sie auf den folgenden Link\, um weitere Informationen z
 ur Veranstaltung zu erhalten:\nhttp://www.biberist.ch/de/veranstaltungen/d
 etail/detail.php?i=687
DTSTART:20260516T140000
DTEND:20260516T170000
LOCATION:Biberist
SUMMARY:Sabrina Christ\, David Scholl\, Julian Stettler
END:VEVENT
END:VCALENDAR
