BEGIN:VCALENDAR
VERSION:2.0
PRODID:-//www.biberist.ch//NONSGML kigkonsult.se iCalcreator 2.22//
CALSCALE:GREGORIAN
METHOD:PUBLISH
X-WR-TIMEZONE:Europe/Berlin
BEGIN:VEVENT
UID:20260420T091757CEST-30678PnPk4@www.biberist.ch
DTSTAMP:20260420T071757Z
DESCRIPTION:Klicken Sie auf den folgenden Link\, um weitere Informationen z
 ur Veranstaltung zu erhalten:\nhttp://www.biberist.ch/de/veranstaltungen/d
 etail/detail.php?i=694
DTSTART:20260503T140000
DTEND:20260503T150000
LOCATION:Biberist
SUMMARY:Führung  durch die Kunstausstellung
END:VEVENT
END:VCALENDAR
