BEGIN:VCALENDAR
VERSION:2.0
PRODID:-//www.biberist.ch//NONSGML kigkonsult.se iCalcreator 2.22//
CALSCALE:GREGORIAN
METHOD:PUBLISH
X-WR-TIMEZONE:Europe/Berlin
BEGIN:VEVENT
UID:20260420T091831CEST-0570dkGE1t@www.biberist.ch
DTSTAMP:20260420T071831Z
DESCRIPTION:Klicken Sie auf den folgenden Link\, um weitere Informationen z
 ur Veranstaltung zu erhalten:\nhttp://www.biberist.ch/de/veranstaltungen/d
 etail/detail.php?i=695
DTSTART:20260503T110000
DTEND:20260503T140000
LOCATION:Biberist
SUMMARY:Matinée mit Pad Alexander\, Mentalist und Magier
END:VEVENT
END:VCALENDAR
