BEGIN:VCALENDAR
VERSION:2.0
PRODID:-//www.biberist.ch//NONSGML kigkonsult.se iCalcreator 2.22//
CALSCALE:GREGORIAN
METHOD:PUBLISH
X-WR-TIMEZONE:Europe/Berlin
BEGIN:VEVENT
UID:20260420T091817CEST-6863z2Fcse@www.biberist.ch
DTSTAMP:20260420T071817Z
DESCRIPTION:Klicken Sie auf den folgenden Link\, um weitere Informationen z
 ur Veranstaltung zu erhalten:\nhttp://www.biberist.ch/de/veranstaltungen/d
 etail/detail.php?i=703
DTSTART:20260523T190000
DTEND:20260524T020000
LOCATION:Biberist
SUMMARY:ROCK-NIGHT :: NEW JERSEY :: FOR SALE reloaded ::
END:VEVENT
END:VCALENDAR
